BEGIN:VCALENDAR
VERSION:2.0
PRODID:-//Plone.org//NONSGML plone.app.event//EN
X-WR-TIMEZONE:Europe/Zurich
BEGIN:VEVENT
SUMMARY:Spezialwoche Winter
DTSTART;VALUE=DATE:20250127
DTEND;VALUE=DATE:20250201
DTSTAMP;VALUE=DATE-TIME:20260421T110749Z
UID:040000008200E00074C5B7101A82E008000000009031D13B3DC2DA0100000000000000
 00100000007F04C6F32FE86743AD6437E74DD4CBE0
CREATED;VALUE=DATE-TIME:20240627T145104Z
LAST-MODIFIED;VALUE=DATE-TIME:20240627T145633Z
URL:https://www.sek-pratteln.ch/events/oeffentlich/spezialwoche-winter-2
END:VEVENT
END:VCALENDAR
