BEGIN:VCALENDAR
VERSION:2.0
PRODID:-//Plone.org//NONSGML plone.app.event//EN
X-WR-TIMEZONE:Europe/Zurich
BEGIN:VEVENT
SUMMARY:Spezialwoche (Herbst)
DTSTART;VALUE=DATE:20180910
DTEND;VALUE=DATE:20180915
DTSTAMP;VALUE=DATE-TIME:20260421T110709Z
UID:040000008200E00074C5B7101A82E00800000000600CC06DD807D40100000000000000
 00100000002DDEA4D2D3EC844E9F49C4A794CCD41F
CREATED;VALUE=DATE-TIME:20180629T060544Z
DESCRIPTION:\n\n
LAST-MODIFIED;VALUE=DATE-TIME:20200706T064353Z
URL:https://www.sek-pratteln.ch/events/oeffentlich/spezialwoche-herbst
END:VEVENT
END:VCALENDAR
