BEGIN:VCALENDAR
VERSION:2.0
PRODID:-//Plone.org//NONSGML plone.app.event//EN
X-WR-TIMEZONE:Europe/Zurich
BEGIN:VEVENT
SUMMARY:Spezialwoche Herbst
DTSTART;VALUE=DATE:20240923
DTEND;VALUE=DATE:20240928
DTSTAMP;VALUE=DATE-TIME:20260421T110923Z
UID:040000008200E00074C5B7101A82E00800000000D050052E30C2DA0100000000000000
 0010000000B500F5FA0519504C9C9C722F5EDAA1A3
CREATED;VALUE=DATE-TIME:20240627T145130Z
LAST-MODIFIED;VALUE=DATE-TIME:20240627T145355Z
URL:https://www.sek-pratteln.ch/events/oeffentlich/spezialwoche-herbst-2
END:VEVENT
END:VCALENDAR
