BEGIN:VCALENDAR
VERSION:2.0
PRODID:-//Plone.org//NONSGML plone.app.event//EN
X-WR-TIMEZONE:Europe/Zurich
BEGIN:VEVENT
SUMMARY:Spezialwoche Herbst
DTSTART;VALUE=DATE:20230925
DTEND;VALUE=DATE:20230930
DTSTAMP;VALUE=DATE-TIME:20260421T110746Z
UID:040000008200E00074C5B7101A82E00800000000F0C0543432A4D90100000000000000
 0010000000E13F6D1B59CFCC4592ECD9064380EA9D
CREATED;VALUE=DATE-TIME:20230626T125602Z
LAST-MODIFIED;VALUE=DATE-TIME:20230626T125848Z
URL:https://www.sek-pratteln.ch/events/oeffentlich/spezialwoche-herbst-1
END:VEVENT
END:VCALENDAR
