BEGIN:VCALENDAR
VERSION:2.0
PRODID:-//Plone.org//NONSGML plone.app.event//EN
X-WR-TIMEZONE:Europe/Zurich
BEGIN:VEVENT
SUMMARY:Spezialwoche
DTSTART;VALUE=DATE:20230130
DTEND;VALUE=DATE:20230204
DTSTAMP;VALUE=DATE-TIME:20260421T104851Z
UID:040000008200E00074C5B7101A82E00800000000E091BB781583D80100000000000000
 0010000000EC670E0E35206348A17433BA68D7AC36
CREATED;VALUE=DATE-TIME:20220627T163356Z
DESCRIPTION: \n
LAST-MODIFIED;VALUE=DATE-TIME:20220627T170019Z
URL:https://www.sek-pratteln.ch/events/oeffentlich/spezialwoche-9
END:VEVENT
END:VCALENDAR
