BEGIN:VCALENDAR
VERSION:2.0
PRODID:-//Plone.org//NONSGML plone.app.event//EN
X-WR-TIMEZONE:Europe/Zurich
BEGIN:VEVENT
SUMMARY:Spezialwoche
DTSTART;VALUE=DATE:20220131
DTEND;VALUE=DATE:20220205
DTSTAMP;VALUE=DATE-TIME:20260421T104851Z
UID:040000008200E00074C5B7101A82E008000000009080247E0C62D70100000000000000
 00100000002ABA7E6FF674A940958AB65D222BF381
CREATED;VALUE=DATE-TIME:20210701T072556Z
LAST-MODIFIED;VALUE=DATE-TIME:20210701T072910Z
URL:https://www.sek-pratteln.ch/events/oeffentlich/spezialwoche-7
END:VEVENT
END:VCALENDAR
