BEGIN:VCALENDAR
VERSION:2.0
PRODID:-//Plone.org//NONSGML plone.app.event//EN
X-WR-TIMEZONE:Europe/Zurich
BEGIN:VEVENT
SUMMARY:Spezialwoche
DTSTART;VALUE=DATE:20200921
DTEND;VALUE=DATE:20200926
DTSTAMP;VALUE=DATE-TIME:20260421T110612Z
UID:040000008200E00074C5B7101A82E0080000000070F2844F8845D60100000000000000
 00100000002A634B41ED7BEB4FA9E3651A16928EDE
CREATED;VALUE=DATE-TIME:20200706T062921Z
LAST-MODIFIED;VALUE=DATE-TIME:20200706T064409Z
URL:https://www.sek-pratteln.ch/events/oeffentlich/spezialwoche-5
END:VEVENT
END:VCALENDAR
