BEGIN:VCALENDAR
VERSION:2.0
PRODID:-//Plone.org//NONSGML plone.app.event//EN
X-WR-TIMEZONE:Europe/Zurich
BEGIN:VEVENT
SUMMARY:Spezialwoche
DTSTART;VALUE=DATE:20190923
DTEND;VALUE=DATE:20190928
DTSTAMP;VALUE=DATE-TIME:20260421T110613Z
UID:040000008200E00074C5B7101A82E0080000000020527DA27E31D50100000000000000
 00100000009C5513550A0DC143BFC81B668EBE8CE6
CREATED;VALUE=DATE-TIME:20190708T101906Z
DESCRIPTION:\n\n
LAST-MODIFIED;VALUE=DATE-TIME:20200706T064401Z
URL:https://www.sek-pratteln.ch/events/oeffentlich/spezialwoche-3
END:VEVENT
END:VCALENDAR
