BEGIN:VCALENDAR
VERSION:2.0
PRODID:-//Plone.org//NONSGML plone.app.event//EN
X-WR-TIMEZONE:Europe/Zurich
BEGIN:VEVENT
SUMMARY:Spezialwoche
DTSTART;VALUE=DATE:20180108
DTEND;VALUE=DATE:20180113
DTSTAMP;VALUE=DATE-TIME:20260421T110608Z
UID:040000008200E00074C5B7101A82E00800000000405D21A0EDE8D20100000000000000
 0010000000D08D1D8735521C4A869C29C702AD4904
CREATED;VALUE=DATE-TIME:20170623T094914Z
LAST-MODIFIED;VALUE=DATE-TIME:20200706T064350Z
URL:https://www.sek-pratteln.ch/events/oeffentlich/spezialwoche-1
END:VEVENT
END:VCALENDAR
