BEGIN:VCALENDAR
VERSION:2.0
PRODID:-//Plone.org//NONSGML plone.app.event//EN
X-WR-TIMEZONE:Europe/Zurich
BEGIN:VEVENT
SUMMARY:Spezialtage (BNE\, BO\, PA)
DTSTART;VALUE=DATE:20220523
DTEND;VALUE=DATE:20220526
DTSTAMP;VALUE=DATE-TIME:20260421T111008Z
UID:040000008200E00074C5B7101A82E00800000000806FF4CC9463D70100000000000000
 0010000000CF8D93B8588DB74F82F9FA565562AE4C
CREATED;VALUE=DATE-TIME:20210701T072601Z
LAST-MODIFIED;VALUE=DATE-TIME:20210701T072911Z
URL:https://www.sek-pratteln.ch/events/oeffentlich/spezialtage-bne-bo-pa
END:VEVENT
END:VCALENDAR
