BEGIN:VCALENDAR
VERSION:2.0
PRODID:-//Plone.org//NONSGML plone.app.event//EN
X-WR-TIMEZONE:Europe/Zurich
BEGIN:VEVENT
SUMMARY:Spezialtage (BNE\,BO\, PA)
DTSTART;VALUE=DATE:20250526
DTEND;VALUE=DATE:20250529
DTSTAMP;VALUE=DATE-TIME:20260421T105138Z
UID:040000008200E00074C5B7101A82E00800000000C09D7D0C42C2DA0100000000000000
 0010000000869ADB27D83D2E4992A9DC9836FCEC9B
CREATED;VALUE=DATE-TIME:20240627T145057Z
LAST-MODIFIED;VALUE=DATE-TIME:20240627T145632Z
URL:https://www.sek-pratteln.ch/events/oeffentlich/spezialtage-bne-bo-pa-3
END:VEVENT
END:VCALENDAR
