BEGIN:VCALENDAR
VERSION:2.0
PRODID:-//Plone.org//NONSGML plone.app.event//EN
X-WR-TIMEZONE:Europe/Zurich
BEGIN:VEVENT
SUMMARY:Spezialprogramm Klassen( 0800 - 1400)
DTSTART;VALUE=DATE:20190628
DTEND;VALUE=DATE:20190629
DTSTAMP;VALUE=DATE-TIME:20260419T112247Z
UID:040000008200E00074C5B7101A82E00800000000007236C2DA07D40100000000000000
 00100000003FFA519807ABDD4A86E1B22005C2E92F
CREATED;VALUE=DATE-TIME:20180629T060536Z
DESCRIPTION:\n\n
LAST-MODIFIED;VALUE=DATE-TIME:20200706T064352Z
URL:https://www.sek-pratteln.ch/events/oeffentlich/spezialprogramm-klassen
 -0800-1400
END:VEVENT
END:VCALENDAR
