BEGIN:VCALENDAR
VERSION:2.0
PRODID:-//Plone.org//NONSGML plone.app.event//EN
X-WR-TIMEZONE:Europe/Zurich
BEGIN:VEVENT
SUMMARY:Späteste Rückgabe der Zeugnisse
DTSTART;VALUE=DATE:20260623
DTEND;VALUE=DATE:20260624
DTSTAMP;VALUE=DATE-TIME:20260421T111111Z
UID:040000008200E00074C5B7101A82E008000000005004036B2ED2DB0100000000000000
 001000000027A71D84CE69514F869FE05A38F2038D
CREATED;VALUE=DATE-TIME:20250611T084836Z
LAST-MODIFIED;VALUE=DATE-TIME:20250611T085916Z
URL:https://www.sek-pratteln.ch/events/oeffentlich/spaeteste-rueckgabe-der
 -zeugnisse-2
END:VEVENT
END:VCALENDAR
