BEGIN:VCALENDAR
VERSION:2.0
PRODID:-//Plone.org//NONSGML plone.app.event//EN
X-WR-TIMEZONE:Europe/Zurich
BEGIN:VEVENT
SUMMARY:Späteste Rückgabe der Zeugnisse
DTSTART;VALUE=DATE:20250624
DTEND;VALUE=DATE:20250625
DTSTAMP;VALUE=DATE-TIME:20260421T114331Z
UID:040000008200E00074C5B7101A82E00800000000F0F703D545C2DA0100000000000000
 0010000000EB277C25840B014084270BB49B8AECD1
CREATED;VALUE=DATE-TIME:20240627T145046Z
LAST-MODIFIED;VALUE=DATE-TIME:20240627T145631Z
URL:https://www.sek-pratteln.ch/events/oeffentlich/spaeteste-rueckgabe-der
 -zeugnisse-1
END:VEVENT
END:VCALENDAR
