BEGIN:VCALENDAR
VERSION:2.0
PRODID:-//Plone.org//NONSGML plone.app.event//EN
X-WR-TIMEZONE:Europe/Zurich
BEGIN:VEVENT
SUMMARY:Späteste Abgabe: Zwischenbericht für Schülerinnen und Schüler 
 der Sekundarstufe
DTSTART;VALUE=DATE:20161107
DTEND;VALUE=DATE:20161108
DTSTAMP;VALUE=DATE-TIME:20260421T111316Z
UID:040000008200E00074C5B7101A82E0080000000070F76FBBC8CBD10100000000000000
 00100000009F98BB9C9E051E48A1DC46FDD875D9A2
CREATED;VALUE=DATE-TIME:20160712T121537Z
LAST-MODIFIED;VALUE=DATE-TIME:20200706T064346Z
URL:https://www.sek-pratteln.ch/events/oeffentlich/spaeteste-abgabe-zwisch
 enbericht-fuer-schuelerinnen-und-schueler-der-sekundarstufe
END:VEVENT
END:VCALENDAR
