BEGIN:VCALENDAR
VERSION:2.0
PRODID:-//Plone.org//NONSGML plone.app.event//EN
X-WR-TIMEZONE:Europe/Zurich
BEGIN:VEVENT
SUMMARY:Sommerkonzert Primar
DTSTART;TZID=Europe/Zurich;VALUE=DATE-TIME:20230616T100000
DTSTAMP;VALUE=DATE-TIME:20260420T184510Z
UID:040000008200E00074C5B7101A82E0080000000080E9A4813A83D80100000000000000
 0010000000482CA70FC0D6DC4A95C86887B6B458CC
CREATED;VALUE=DATE-TIME:20220627T163428Z
LAST-MODIFIED;VALUE=DATE-TIME:20230612T064031Z
URL:https://www.sek-pratteln.ch/events/oeffentlich/sommerkonzert-primar
END:VEVENT
BEGIN:VTIMEZONE
TZID:Europe/Zurich
X-LIC-LOCATION:Europe/Zurich
BEGIN:DAYLIGHT
DTSTART;VALUE=DATE-TIME:20230326T030000
TZNAME:CEST
TZOFFSETFROM:+0100
TZOFFSETTO:+0200
END:DAYLIGHT
END:VTIMEZONE
END:VCALENDAR
