BEGIN:VCALENDAR
VERSION:2.0
PRODID:-//Plone.org//NONSGML plone.app.event//EN
X-WR-TIMEZONE:Europe/Zurich
BEGIN:VEVENT
SUMMARY:Sommerkonzert Hauptprobe
DTSTART;VALUE=DATE:20230615
DTEND;VALUE=DATE:20230616
DTSTAMP;VALUE=DATE-TIME:20260419T151917Z
UID:040000008200E00074C5B7101A82E00800000000F01A4E733A83D80100000000000000
 0010000000F4535706F1EAD546BBBF52222D0FF9B6
CREATED;VALUE=DATE-TIME:20220627T163427Z
DESCRIPTION: \n
LAST-MODIFIED;VALUE=DATE-TIME:20220627T165913Z
URL:https://www.sek-pratteln.ch/events/oeffentlich/sommerkonzert-hauptprob
 e
END:VEVENT
END:VCALENDAR
