BEGIN:VCALENDAR
VERSION:2.0
PRODID:-//Plone.org//NONSGML plone.app.event//EN
X-WR-TIMEZONE:Europe/Zurich
BEGIN:VEVENT
SUMMARY:Sommerkonzert für Primar
DTSTART;VALUE=DATE:20220617
DTEND;VALUE=DATE:20220618
DTSTAMP;VALUE=DATE-TIME:20260421T111005Z
UID:040000008200E00074C5B7101A82E00800000000D0868770A663D70100000000000000
 0010000000CB761D2A72545E4EB46BD8C49A6D30D4
CREATED;VALUE=DATE-TIME:20210701T072629Z
LAST-MODIFIED;VALUE=DATE-TIME:20210701T072754Z
URL:https://www.sek-pratteln.ch/events/oeffentlich/sommerkonzert-fuer-prim
 ar
END:VEVENT
END:VCALENDAR
