BEGIN:VCALENDAR
VERSION:2.0
PRODID:-//Plone.org//NONSGML plone.app.event//EN
X-WR-TIMEZONE:Europe/Zurich
BEGIN:VEVENT
SUMMARY:Sommerferien
DTSTART;VALUE=DATE:20230703
DTEND;VALUE=DATE:20230812
DTSTAMP;VALUE=DATE-TIME:20260421T110540Z
UID:040000008200E00074C5B7101A82E00800000000404262A51D83D80100000000000000
 00100000000BA9D7AAC314334E8143310A8E04BD80
CREATED;VALUE=DATE-TIME:20220627T163402Z
DESCRIPTION: \n
LAST-MODIFIED;VALUE=DATE-TIME:20220627T170000Z
URL:https://www.sek-pratteln.ch/events/oeffentlich/sommerferien-4
END:VEVENT
END:VCALENDAR
