BEGIN:VCALENDAR
VERSION:2.0
PRODID:-//Plone.org//NONSGML plone.app.event//EN
X-WR-TIMEZONE:Europe/Zurich
BEGIN:VEVENT
SUMMARY:Sommerferien
DTSTART;VALUE=DATE:20210705
DTEND;VALUE=DATE:20210814
DTSTAMP;VALUE=DATE-TIME:20260421T110530Z
UID:040000008200E00074C5B7101A82E00800000000801871A08D45D60100000000000000
 0010000000BF5E4957F4778246B13EA3F6DE004F45
CREATED;VALUE=DATE-TIME:20200706T062904Z
LAST-MODIFIED;VALUE=DATE-TIME:20200706T064407Z
URL:https://www.sek-pratteln.ch/events/oeffentlich/sommerferien-2
END:VEVENT
END:VCALENDAR
