BEGIN:VCALENDAR
VERSION:2.0
PRODID:-//Plone.org//NONSGML plone.app.event//EN
X-WR-TIMEZONE:Europe/Zurich
BEGIN:VEVENT
SUMMARY:Sommerferien
DTSTART;VALUE=DATE:20200629
DTEND;VALUE=DATE:20200808
DTSTAMP;VALUE=DATE-TIME:20260421T113423Z
UID:040000008200E00074C5B7101A82E00800000000F0B61BBD8131D50100000000000000
 00100000009D336615351AC0408B22D52D8DFEB9BD
CREATED;VALUE=DATE-TIME:20190708T101859Z
DESCRIPTION:\n\n
LAST-MODIFIED;VALUE=DATE-TIME:20200706T064400Z
URL:https://www.sek-pratteln.ch/events/oeffentlich/sommerferien-1
END:VEVENT
END:VCALENDAR
