BEGIN:VCALENDAR
VERSION:2.0
PRODID:-//Plone.org//NONSGML plone.app.event//EN
X-WR-TIMEZONE:Europe/Zurich
BEGIN:VEVENT
SUMMARY:Sommerferien 2015
DTSTART;VALUE=DATE:20150706
DTEND;VALUE=DATE:20150817
DTSTAMP;VALUE=DATE-TIME:20260419T214231Z
UID:040000008200E00074C5B7101A82E0080000000030BFDE3E2D8FD00100000000000000
 00100000006D8F2F567AC9FC4797D1E4E528A10C45
CREATED;VALUE=DATE-TIME:20150710T073749Z
LAST-MODIFIED;VALUE=DATE-TIME:20200706T064341Z
URL:https://www.sek-pratteln.ch/events/oeffentlich/sommerferien-06-07-16-0
 8.15
END:VEVENT
END:VCALENDAR
