BEGIN:VCALENDAR
VERSION:2.0
PRODID:-//Plone.org//NONSGML plone.app.event//EN
X-WR-TIMEZONE:Europe/Zurich
BEGIN:VEVENT
SUMMARY:Sommerferien
DTSTART;VALUE=DATE:20160704
DTEND;VALUE=DATE:20160813
DTSTAMP;VALUE=DATE-TIME:20260420T022250Z
UID:040000008200E00074C5B7101A82E00800000000108D169E2E8FD00100000000000000
 001000000049304057BBA5F746B515BB17FE982DCE
CREATED;VALUE=DATE-TIME:20150710T073749Z
LAST-MODIFIED;VALUE=DATE-TIME:20200706T064341Z
URL:https://www.sek-pratteln.ch/events/oeffentlich/sommerferien-04-07-14-0
 8.16
END:VEVENT
END:VCALENDAR
