BEGIN:VCALENDAR
VERSION:2.0
PRODID:-//Plone.org//NONSGML plone.app.event//EN
X-WR-TIMEZONE:Europe/Zurich
BEGIN:VEVENT
SUMMARY:Skilager Klassen 3Ea\,b\,c
DTSTART;VALUE=DATE:20160111
DTEND;VALUE=DATE:20160116
DTSTAMP;VALUE=DATE-TIME:20260421T110611Z
UID:8f61533dacd449f8b77e4033cfd18dab@5.35.252.84:8090
CREATED;VALUE=DATE-TIME:20150820T104011Z
LAST-MODIFIED;VALUE=DATE-TIME:20200706T064344Z
URL:https://www.sek-pratteln.ch/events/oeffentlich/skilager-klassen-3ea-b-
 c
END:VEVENT
END:VCALENDAR
