BEGIN:VCALENDAR
VERSION:2.0
PRODID:-//Plone.org//NONSGML plone.app.event//EN
X-WR-TIMEZONE:Europe/Zurich
BEGIN:VEVENT
SUMMARY:Skilager 3Aa\,b\,c
DTSTART;VALUE=DATE:20160111
DTEND;VALUE=DATE:20160116
DTSTAMP;VALUE=DATE-TIME:20260421T110334Z
UID:8f07a8fdf4cf41b8ba57ce44ad745a5c@5.35.252.84:8090
CREATED;VALUE=DATE-TIME:20150923T075151Z
LAST-MODIFIED;VALUE=DATE-TIME:20200706T064344Z
LOCATION:Elm
URL:https://www.sek-pratteln.ch/events/oeffentlich/skilager-3aa-b-c
END:VEVENT
END:VCALENDAR
