BEGIN:VCALENDAR
VERSION:2.0
PRODID:-//Plone.org//NONSGML plone.app.event//EN
X-WR-TIMEZONE:Europe/Zurich
BEGIN:VEVENT
SUMMARY:Semesterbeginn
DTSTART;VALUE=DATE:20250120
DTEND;VALUE=DATE:20250121
DTSTAMP;VALUE=DATE-TIME:20260421T110258Z
UID:60b3df4947de48da8162207bd4d29a50@82.220.37.140:8081
CREATED;VALUE=DATE-TIME:20240924T082548Z
LAST-MODIFIED;VALUE=DATE-TIME:20240924T082552Z
URL:https://www.sek-pratteln.ch/events/oeffentlich/semesterbeginn
END:VEVENT
END:VCALENDAR
