BEGIN:VCALENDAR
VERSION:2.0
PRODID:-//Plone.org//NONSGML plone.app.event//EN
X-WR-TIMEZONE:Europe/Zurich
BEGIN:VEVENT
SUMMARY:Schulversammlung
DTSTART;TZID=Europe/Zurich;VALUE=DATE-TIME:20151110T120000
DTEND;TZID=Europe/Zurich;VALUE=DATE-TIME:20151110T130000
DTSTAMP;VALUE=DATE-TIME:20260421T110335Z
UID:040000008200E00074C5B7101A82E008000000005013712A8194D00100000000000000
 00100000009173E7BDE0E56646AD265462F505A3A0
CREATED;VALUE=DATE-TIME:20150710T073754Z
LAST-MODIFIED;VALUE=DATE-TIME:20200706T064342Z
LOCATION:Aula Q-Trakt
URL:https://www.sek-pratteln.ch/events/oeffentlich/schulversammlung
END:VEVENT
BEGIN:VTIMEZONE
TZID:Europe/Zurich
X-LIC-LOCATION:Europe/Zurich
BEGIN:STANDARD
DTSTART;VALUE=DATE-TIME:20151025T020000
TZNAME:CET
TZOFFSETFROM:+0200
TZOFFSETTO:+0100
END:STANDARD
END:VTIMEZONE
END:VCALENDAR
