BEGIN:VCALENDAR
VERSION:2.0
PRODID:-//Plone.org//NONSGML plone.app.event//EN
X-WR-TIMEZONE:Europe/Zurich
BEGIN:VEVENT
SUMMARY:Schulversammlung
DTSTART;TZID=Europe/Zurich;VALUE=DATE-TIME:20160503T120000
DTEND;TZID=Europe/Zurich;VALUE=DATE-TIME:20160503T130000
DTSTAMP;VALUE=DATE-TIME:20260421T110530Z
UID:040000008200E00074C5B7101A82E0080000000050ED1B558194D00100000000000000
 001000000097EC5FDBCE96514C984E440E492A0B13
CREATED;VALUE=DATE-TIME:20150710T073755Z
DESCRIPTION:\n\n\n
LAST-MODIFIED;VALUE=DATE-TIME:20200706T064342Z
URL:https://www.sek-pratteln.ch/events/oeffentlich/schulversammlung-3
END:VEVENT
BEGIN:VTIMEZONE
TZID:Europe/Zurich
X-LIC-LOCATION:Europe/Zurich
BEGIN:DAYLIGHT
DTSTART;VALUE=DATE-TIME:20160327T030000
TZNAME:CEST
TZOFFSETFROM:+0100
TZOFFSETTO:+0200
END:DAYLIGHT
END:VTIMEZONE
END:VCALENDAR
