BEGIN:VCALENDAR
VERSION:2.0
PRODID:-//Plone.org//NONSGML plone.app.event//EN
X-WR-TIMEZONE:Europe/Zurich
BEGIN:VEVENT
SUMMARY:Schulversammlung
DTSTART;TZID=Europe/Zurich;VALUE=DATE-TIME:20160126T120000
DTEND;TZID=Europe/Zurich;VALUE=DATE-TIME:20160126T130000
DTSTAMP;VALUE=DATE-TIME:20260421T110531Z
UID:040000008200E00074C5B7101A82E00800000000E053D2488194D00100000000000000
 0010000000399E854977C4664BB76BC0E0607233BC
CREATED;VALUE=DATE-TIME:20150710T073755Z
LAST-MODIFIED;VALUE=DATE-TIME:20200706T064342Z
LOCATION:Aula Trakt B
URL:https://www.sek-pratteln.ch/events/oeffentlich/schulversammlung-2
END:VEVENT
BEGIN:VTIMEZONE
TZID:Europe/Zurich
X-LIC-LOCATION:Europe/Zurich
BEGIN:STANDARD
DTSTART;VALUE=DATE-TIME:20151025T020000
TZNAME:CET
TZOFFSETFROM:+0200
TZOFFSETTO:+0100
END:STANDARD
END:VTIMEZONE
END:VCALENDAR
