BEGIN:VCALENDAR
VERSION:2.0
PRODID:-//Plone.org//NONSGML plone.app.event//EN
X-WR-TIMEZONE:Europe/Zurich
BEGIN:VEVENT
SUMMARY:Schulschlussfeier
DTSTART;TZID=Europe/Zurich;VALUE=DATE-TIME:20170629T193000
DTEND;TZID=Europe/Zurich;VALUE=DATE-TIME:20170629T220000
DTSTAMP;VALUE=DATE-TIME:20260421T110530Z
UID:040000008200E00074C5B7101A82E00800000000E0D9400484DBD10100000000000000
 0010000000F2357E7B5B5F804EA19A9060C60C79DA
CREATED;VALUE=DATE-TIME:20160712T121533Z
LAST-MODIFIED;VALUE=DATE-TIME:20200706T064346Z
LOCATION:Kuspo
URL:https://www.sek-pratteln.ch/events/oeffentlich/schulschlussfeier
END:VEVENT
BEGIN:VTIMEZONE
TZID:Europe/Zurich
X-LIC-LOCATION:Europe/Zurich
BEGIN:DAYLIGHT
DTSTART;VALUE=DATE-TIME:20170326T030000
TZNAME:CEST
TZOFFSETFROM:+0100
TZOFFSETTO:+0200
END:DAYLIGHT
END:VTIMEZONE
END:VCALENDAR
