BEGIN:VCALENDAR
VERSION:2.0
PRODID:-//Plone.org//NONSGML plone.app.event//EN
X-WR-TIMEZONE:Europe/Zurich
BEGIN:VEVENT
SUMMARY:Schulreisetag
DTSTART;VALUE=DATE:20220629
DTEND;VALUE=DATE:20220630
DTSTAMP;VALUE=DATE-TIME:20260421T110539Z
UID:040000008200E00074C5B7101A82E0080000000070E0CC009663D70100000000000000
 00100000002D7F7B0BF122C149AAA068B277210F24
CREATED;VALUE=DATE-TIME:20210701T072605Z
LAST-MODIFIED;VALUE=DATE-TIME:20210701T072840Z
URL:https://www.sek-pratteln.ch/events/oeffentlich/schulreisetag
END:VEVENT
END:VCALENDAR
