BEGIN:VCALENDAR
VERSION:2.0
PRODID:-//Plone.org//NONSGML plone.app.event//EN
X-WR-TIMEZONE:Europe/Zurich
BEGIN:VEVENT
SUMMARY:Schulratssitzung - abgesagt
DTSTART;TZID=Europe/Zurich;VALUE=DATE-TIME:20210617T190000
DTEND;TZID=Europe/Zurich;VALUE=DATE-TIME:20210617T213000
DTSTAMP;VALUE=DATE-TIME:20260421T110335Z
UID:040000008200E00074C5B7101A82E0080000000050ECE7072A4AD60100000000000000
 001000000023C2DBA5C384B748B0550C256DF0DD98
CREATED;VALUE=DATE-TIME:20200706T062825Z
DESCRIPTION:None
LAST-MODIFIED;VALUE=DATE-TIME:20210615T144446Z
LOCATION:Sitzungszimmer
URL:https://www.sek-pratteln.ch/events/oeffentlich/schulratssitzung
END:VEVENT
BEGIN:VTIMEZONE
TZID:Europe/Zurich
X-LIC-LOCATION:Europe/Zurich
BEGIN:DAYLIGHT
DTSTART;VALUE=DATE-TIME:20210328T030000
TZNAME:CEST
TZOFFSETFROM:+0100
TZOFFSETTO:+0200
END:DAYLIGHT
END:VTIMEZONE
END:VCALENDAR
