BEGIN:VCALENDAR
VERSION:2.0
PRODID:-//Plone.org//NONSGML plone.app.event//EN
X-WR-TIMEZONE:Europe/Zurich
BEGIN:VEVENT
SUMMARY:Schulratssitzung (20:00!!!)
DTSTART;TZID=Europe/Zurich;VALUE=DATE-TIME:20200903T200000
DTEND;TZID=Europe/Zurich;VALUE=DATE-TIME:20200903T220000
DTSTAMP;VALUE=DATE-TIME:20260421T110613Z
UID:040000008200E00074C5B7101A82E00800000000606163F9054AD60100000000000000
 0010000000422FDB129771564E98C0B4976EB27EE4
CREATED;VALUE=DATE-TIME:20200706T062857Z
LAST-MODIFIED;VALUE=DATE-TIME:20200706T064406Z
LOCATION:Sitzungszimmer
URL:https://www.sek-pratteln.ch/events/oeffentlich/schulratssitzung-20-00
END:VEVENT
BEGIN:VTIMEZONE
TZID:Europe/Zurich
X-LIC-LOCATION:Europe/Zurich
BEGIN:DAYLIGHT
DTSTART;VALUE=DATE-TIME:20200329T030000
TZNAME:CEST
TZOFFSETFROM:+0100
TZOFFSETTO:+0200
END:DAYLIGHT
END:VTIMEZONE
END:VCALENDAR
