BEGIN:VCALENDAR
VERSION:2.0
PRODID:-//Plone.org//NONSGML plone.app.event//EN
X-WR-TIMEZONE:Europe/Zurich
BEGIN:VEVENT
SUMMARY:Schulratssitzung
DTSTART;TZID=Europe/Zurich;VALUE=DATE-TIME:20210520T190000
DTEND;TZID=Europe/Zurich;VALUE=DATE-TIME:20210520T213000
DTSTAMP;VALUE=DATE-TIME:20260421T110542Z
UID:040000008200E00074C5B7101A82E00800000000B0AB6052294AD60100000000000000
 0010000000468E6552ACB50F448C7838205A7569D4
CREATED;VALUE=DATE-TIME:20200706T062827Z
LAST-MODIFIED;VALUE=DATE-TIME:20200706T064403Z
LOCATION:Sitzungszimmer
URL:https://www.sek-pratteln.ch/events/oeffentlich/schulratssitzung-1
END:VEVENT
BEGIN:VTIMEZONE
TZID:Europe/Zurich
X-LIC-LOCATION:Europe/Zurich
BEGIN:DAYLIGHT
DTSTART;VALUE=DATE-TIME:20210328T030000
TZNAME:CEST
TZOFFSETFROM:+0100
TZOFFSETTO:+0200
END:DAYLIGHT
END:VTIMEZONE
END:VCALENDAR
