BEGIN:VCALENDAR
VERSION:2.0
PRODID:-//Plone.org//NONSGML plone.app.event//EN
X-WR-TIMEZONE:Europe/Zurich
BEGIN:VEVENT
SUMMARY:Schulrat
DTSTART;TZID=Europe/Zurich;VALUE=DATE-TIME:20210909T190000
DTEND;TZID=Europe/Zurich;VALUE=DATE-TIME:20210909T210000
DTSTAMP;VALUE=DATE-TIME:20260421T110259Z
UID:040000008200E00074C5B7101A82E0080000000040C252AB9A63D70100000000000000
 0010000000566EB532334F034EB9A11BAE9A52A5BE
CREATED;VALUE=DATE-TIME:20210701T072610Z
LAST-MODIFIED;VALUE=DATE-TIME:20210701T072841Z
URL:https://www.sek-pratteln.ch/events/oeffentlich/schulrat
END:VEVENT
BEGIN:VTIMEZONE
TZID:Europe/Zurich
X-LIC-LOCATION:Europe/Zurich
BEGIN:DAYLIGHT
DTSTART;VALUE=DATE-TIME:20210328T030000
TZNAME:CEST
TZOFFSETFROM:+0100
TZOFFSETTO:+0200
END:DAYLIGHT
END:VTIMEZONE
END:VCALENDAR
