BEGIN:VCALENDAR
VERSION:2.0
PRODID:-//Plone.org//NONSGML plone.app.event//EN
X-WR-TIMEZONE:Europe/Zurich
BEGIN:VEVENT
SUMMARY:Schulrat (Sondersitzung Auditbericht) 18:00
DTSTART;TZID=Europe/Zurich;VALUE=DATE-TIME:20221208T180000
DTEND;TZID=Europe/Zurich;VALUE=DATE-TIME:20221208T210000
DTSTAMP;VALUE=DATE-TIME:20260421T111114Z
UID:040000008200E00074C5B7101A82E008000000004028C7982F83D80100000000000000
 0010000000D0AD10FA554CF7488FC86A40A9777812
CREATED;VALUE=DATE-TIME:20220627T163411Z
DESCRIPTION: \n
LAST-MODIFIED;VALUE=DATE-TIME:20220627T165940Z
LOCATION:Sitzungszimmer/Bibliothek
URL:https://www.sek-pratteln.ch/events/oeffentlich/schulrat-sondersitzung-
 auditbericht-18-00
END:VEVENT
BEGIN:VTIMEZONE
TZID:Europe/Zurich
X-LIC-LOCATION:Europe/Zurich
BEGIN:STANDARD
DTSTART;VALUE=DATE-TIME:20221030T020000
TZNAME:CET
TZOFFSETFROM:+0200
TZOFFSETTO:+0100
END:STANDARD
END:VTIMEZONE
END:VCALENDAR
