BEGIN:VCALENDAR
VERSION:2.0
PRODID:-//Plone.org//NONSGML plone.app.event//EN
X-WR-TIMEZONE:Europe/Zurich
BEGIN:VEVENT
SUMMARY:Schulrat - online
DTSTART;TZID=Europe/Zurich;VALUE=DATE-TIME:20220127T190000
DTEND;TZID=Europe/Zurich;VALUE=DATE-TIME:20220127T210000
DTSTAMP;VALUE=DATE-TIME:20260421T025616Z
UID:5ab7a910e8744b9382521ce49477e904@82.220.37.140:8081
CREATED;VALUE=DATE-TIME:20211214T123846Z
LAST-MODIFIED;VALUE=DATE-TIME:20211214T123855Z
LOCATION:Online
URL:https://www.sek-pratteln.ch/events/oeffentlich/schulrat-online
END:VEVENT
BEGIN:VTIMEZONE
TZID:Europe/Zurich
X-LIC-LOCATION:Europe/Zurich
BEGIN:STANDARD
DTSTART;VALUE=DATE-TIME:20211031T020000
TZNAME:CET
TZOFFSETFROM:+0200
TZOFFSETTO:+0100
END:STANDARD
END:VTIMEZONE
END:VCALENDAR
