BEGIN:VCALENDAR
VERSION:2.0
PRODID:-//Plone.org//NONSGML plone.app.event//EN
X-WR-TIMEZONE:Europe/Zurich
BEGIN:VEVENT
SUMMARY:Schulrat
DTSTART;TZID=Europe/Zurich;VALUE=DATE-TIME:20230112T190000
DTEND;TZID=Europe/Zurich;VALUE=DATE-TIME:20230112T210000
DTSTAMP;VALUE=DATE-TIME:20260419T151418Z
UID:040000008200E00074C5B7101A82E0080000000050BD875D3283D80100000000000000
 001000000036D1E349F1B7494182E5EB59AA443730
CREATED;VALUE=DATE-TIME:20220627T163415Z
DESCRIPTION: \n
LAST-MODIFIED;VALUE=DATE-TIME:20220627T165941Z
LOCATION:Sitzungszimmer/Bibliothek
URL:https://www.sek-pratteln.ch/events/oeffentlich/schulrat-8
END:VEVENT
BEGIN:VTIMEZONE
TZID:Europe/Zurich
X-LIC-LOCATION:Europe/Zurich
BEGIN:STANDARD
DTSTART;VALUE=DATE-TIME:20221030T020000
TZNAME:CET
TZOFFSETFROM:+0200
TZOFFSETTO:+0100
END:STANDARD
END:VTIMEZONE
END:VCALENDAR
