BEGIN:VCALENDAR
VERSION:2.0
PRODID:-//Plone.org//NONSGML plone.app.event//EN
X-WR-TIMEZONE:Europe/Zurich
BEGIN:VEVENT
SUMMARY:Schulrat
DTSTART;TZID=Europe/Zurich;VALUE=DATE-TIME:20220915T190000
DTEND;TZID=Europe/Zurich;VALUE=DATE-TIME:20220915T210000
DTSTAMP;VALUE=DATE-TIME:20260421T110357Z
UID:040000008200E00074C5B7101A82E0080000000010B9DEC12483D80100000000000000
 0010000000914509EC1848B64785F29C032454845B
CREATED;VALUE=DATE-TIME:20220627T163405Z
DESCRIPTION: \n
LAST-MODIFIED;VALUE=DATE-TIME:20220627T170000Z
LOCATION:Sitzungszimmer/Bibliothek
URL:https://www.sek-pratteln.ch/events/oeffentlich/schulrat-6
END:VEVENT
BEGIN:VTIMEZONE
TZID:Europe/Zurich
X-LIC-LOCATION:Europe/Zurich
BEGIN:DAYLIGHT
DTSTART;VALUE=DATE-TIME:20220327T030000
TZNAME:CEST
TZOFFSETFROM:+0100
TZOFFSETTO:+0200
END:DAYLIGHT
END:VTIMEZONE
END:VCALENDAR
