BEGIN:VCALENDAR
VERSION:2.0
PRODID:-//Plone.org//NONSGML plone.app.event//EN
X-WR-TIMEZONE:Europe/Zurich
BEGIN:VEVENT
SUMMARY:Schulrat
DTSTART;TZID=Europe/Zurich;VALUE=DATE-TIME:20220505T190000
DTEND;TZID=Europe/Zurich;VALUE=DATE-TIME:20220505T210000
DTSTAMP;VALUE=DATE-TIME:20260421T110334Z
UID:040000008200E00074C5B7101A82E00800000000C00E3972A363D70100000000000000
 00100000000971792DA23A314E88332DC5465A1E00
CREATED;VALUE=DATE-TIME:20210701T072625Z
DESCRIPTION:None
LAST-MODIFIED;VALUE=DATE-TIME:20220222T110313Z
LOCATION:Bibliothek oder Sitzungszimmer
URL:https://www.sek-pratteln.ch/events/oeffentlich/schulrat-4
END:VEVENT
BEGIN:VTIMEZONE
TZID:Europe/Zurich
X-LIC-LOCATION:Europe/Zurich
BEGIN:DAYLIGHT
DTSTART;VALUE=DATE-TIME:20220327T030000
TZNAME:CEST
TZOFFSETFROM:+0100
TZOFFSETTO:+0200
END:DAYLIGHT
END:VTIMEZONE
END:VCALENDAR
