BEGIN:VCALENDAR
VERSION:2.0
PRODID:-//Plone.org//NONSGML plone.app.event//EN
X-WR-TIMEZONE:Europe/Zurich
BEGIN:VEVENT
SUMMARY:Schulrat
DTSTART;TZID=Europe/Zurich;VALUE=DATE-TIME:20220331T190000
DTEND;TZID=Europe/Zurich;VALUE=DATE-TIME:20220331T210000
DTSTAMP;VALUE=DATE-TIME:20260421T110334Z
UID:040000008200E00074C5B7101A82E00800000000F065FED5A263D70100000000000000
 001000000022373EA83987B242A65C6BE87F734162
CREATED;VALUE=DATE-TIME:20210701T072625Z
DESCRIPTION:None
LAST-MODIFIED;VALUE=DATE-TIME:20220222T105920Z
LOCATION:Bibliothek oder Sitzungszimmer
URL:https://www.sek-pratteln.ch/events/oeffentlich/schulrat-3
END:VEVENT
BEGIN:VTIMEZONE
TZID:Europe/Zurich
X-LIC-LOCATION:Europe/Zurich
BEGIN:DAYLIGHT
DTSTART;VALUE=DATE-TIME:20220327T030000
TZNAME:CEST
TZOFFSETFROM:+0100
TZOFFSETTO:+0200
END:DAYLIGHT
END:VTIMEZONE
END:VCALENDAR
