BEGIN:VCALENDAR
VERSION:2.0
PRODID:-//Plone.org//NONSGML plone.app.event//EN
X-WR-TIMEZONE:Europe/Zurich
BEGIN:VEVENT
SUMMARY:Schulrat
DTSTART;TZID=Europe/Zurich;VALUE=DATE-TIME:20230504T190000
DTEND;TZID=Europe/Zurich;VALUE=DATE-TIME:20230504T210000
DTSTAMP;VALUE=DATE-TIME:20260421T110405Z
UID:040000008200E00074C5B7101A82E00800000000D01C032F3883D80100000000000000
 001000000004806136AD51C541ACF156C63B6FE230
CREATED;VALUE=DATE-TIME:20220627T163424Z
DESCRIPTION:abgesagt!
LAST-MODIFIED;VALUE=DATE-TIME:20230502T085444Z
LOCATION:Sitzungszimmer/Bibliothek
URL:https://www.sek-pratteln.ch/events/oeffentlich/schulrat-10
END:VEVENT
BEGIN:VTIMEZONE
TZID:Europe/Zurich
X-LIC-LOCATION:Europe/Zurich
BEGIN:DAYLIGHT
DTSTART;VALUE=DATE-TIME:20230326T030000
TZNAME:CEST
TZOFFSETFROM:+0100
TZOFFSETTO:+0200
END:DAYLIGHT
END:VTIMEZONE
END:VCALENDAR
