BEGIN:VCALENDAR
VERSION:2.0
PRODID:-//Plone.org//NONSGML plone.app.event//EN
X-WR-TIMEZONE:Europe/Zurich
BEGIN:VEVENT
SUMMARY:Schuljahresbeginn bei Klassenlehrpersonen
DTSTART;TZID=Europe/Zurich;VALUE=DATE-TIME:20160815T082000
DTEND;TZID=Europe/Zurich;VALUE=DATE-TIME:20160815T095500
DTSTAMP;VALUE=DATE-TIME:20260421T111310Z
UID:040000008200E00074C5B7101A82E00800000000A01E95115ADBD10100000000000000
 00100000008F909F7173228747A7E64D74024444C6
CREATED;VALUE=DATE-TIME:20160712T121531Z
LAST-MODIFIED;VALUE=DATE-TIME:20200706T064345Z
URL:https://www.sek-pratteln.ch/events/oeffentlich/schuljahresbeginn-bei-k
 lassenlehrpersonen
END:VEVENT
BEGIN:VTIMEZONE
TZID:Europe/Zurich
X-LIC-LOCATION:Europe/Zurich
BEGIN:DAYLIGHT
DTSTART;VALUE=DATE-TIME:20160327T030000
TZNAME:CEST
TZOFFSETFROM:+0100
TZOFFSETTO:+0200
END:DAYLIGHT
END:VTIMEZONE
END:VCALENDAR
