BEGIN:VCALENDAR
VERSION:2.0
PRODID:-//Plone.org//NONSGML plone.app.event//EN
X-WR-TIMEZONE:Europe/Zurich
BEGIN:VEVENT
SUMMARY:Schuljahresabschlusskonzert
DTSTART;VALUE=DATE:20240624
DTEND;VALUE=DATE:20240625
DTSTAMP;VALUE=DATE-TIME:20260421T110746Z
UID:4c702e667a014b25a16ac05f0c333d5e@82.220.37.140:8081
CREATED;VALUE=DATE-TIME:20241016T073205Z
LAST-MODIFIED;VALUE=DATE-TIME:20241016T073252Z
URL:https://www.sek-pratteln.ch/events/oeffentlich/schuljahresabschlusskon
 zert
END:VEVENT
END:VCALENDAR
