BEGIN:VCALENDAR
VERSION:2.0
PRODID:-//Plone.org//NONSGML plone.app.event//EN
X-WR-TIMEZONE:Europe/Zurich
BEGIN:VEVENT
SUMMARY:Schulinterne Weiterbildung
DTSTART;TZID=Europe/Zurich;VALUE=DATE-TIME:20151001T120000
DTEND;TZID=Europe/Zurich;VALUE=DATE-TIME:20151003T120000
DTSTAMP;VALUE=DATE-TIME:20260421T111316Z
UID:040000008200E00074C5B7101A82E00800000000409CA69EAFA2D00100000000000000
 00100000000861976D86B8EA48B828F34D32E02357
CREATED;VALUE=DATE-TIME:20150710T073757Z
DESCRIPTION:Schulfrei für Schülerinnen und Schüler
LAST-MODIFIED;VALUE=DATE-TIME:20200706T064343Z
URL:https://www.sek-pratteln.ch/events/oeffentlich/schulinterne-weiterbild
 ung-schulfrei-fuer-schuelerinnen-und-schueler
END:VEVENT
BEGIN:VTIMEZONE
TZID:Europe/Zurich
X-LIC-LOCATION:Europe/Zurich
BEGIN:DAYLIGHT
DTSTART;VALUE=DATE-TIME:20150329T030000
TZNAME:CEST
TZOFFSETFROM:+0100
TZOFFSETTO:+0200
END:DAYLIGHT
END:VTIMEZONE
END:VCALENDAR
