BEGIN:VCALENDAR
VERSION:2.0
PRODID:-//Plone.org//NONSGML plone.app.event//EN
X-WR-TIMEZONE:Europe/Zurich
BEGIN:VEVENT
SUMMARY:Schulinterne Weiterbildung
DTSTART;VALUE=DATE:20160229
DTEND;VALUE=DATE:20160301
DTSTAMP;VALUE=DATE-TIME:20260421T110035Z
UID:040000008200E00074C5B7101A82E00800000000F00BF3E0CDADD00100000000000000
 00100000002FA4F360243703439756339CD2ECF48D
CREATED;VALUE=DATE-TIME:20150710T073800Z
DESCRIPTION:Schulfrei für Schülerinnen und Schüler
LAST-MODIFIED;VALUE=DATE-TIME:20200706T064343Z
URL:https://www.sek-pratteln.ch/events/oeffentlich/schulinterne-weiterbild
 ung-schulfrei-fuer-schuelerinnen-und-schueler-1
END:VEVENT
END:VCALENDAR
