BEGIN:VCALENDAR
VERSION:2.0
PRODID:-//Plone.org//NONSGML plone.app.event//EN
X-WR-TIMEZONE:Europe/Zurich
BEGIN:VEVENT
SUMMARY:Schulhaussprechstunde
DTSTART;TZID=Europe/Zurich;VALUE=DATE-TIME:20210428T130000
DTEND;TZID=Europe/Zurich;VALUE=DATE-TIME:20210428T160000
DTSTAMP;VALUE=DATE-TIME:20260421T104841Z
UID:040000008200E00074C5B7101A82E00800000000804664A6D44AD60100000000000000
 0010000000053DE1E2A9985E45B30B077F668EBF7B
CREATED;VALUE=DATE-TIME:20200706T062809Z
LAST-MODIFIED;VALUE=DATE-TIME:20200706T064402Z
URL:https://www.sek-pratteln.ch/events/oeffentlich/schulhaussprechstunde
END:VEVENT
BEGIN:VTIMEZONE
TZID:Europe/Zurich
X-LIC-LOCATION:Europe/Zurich
BEGIN:DAYLIGHT
DTSTART;VALUE=DATE-TIME:20210328T030000
TZNAME:CEST
TZOFFSETFROM:+0100
TZOFFSETTO:+0200
END:DAYLIGHT
END:VTIMEZONE
END:VCALENDAR
