BEGIN:VCALENDAR
VERSION:2.0
PRODID:-//Plone.org//NONSGML plone.app.event//EN
X-WR-TIMEZONE:Europe/Zurich
BEGIN:VEVENT
SUMMARY:Schulhaussprechstunde BIZ (1300-1600)
DTSTART;TZID=Europe/Zurich;VALUE=DATE-TIME:20181211T130000
DTEND;TZID=Europe/Zurich;VALUE=DATE-TIME:20181211T160000
DTSTAMP;VALUE=DATE-TIME:20260421T111310Z
UID:040000008200E00074C5B7101A82E0080000000070D56645D607D40100000000000000
 00100000005297C536ACC9B34BAC2E3C448EC4F978
CREATED;VALUE=DATE-TIME:20180629T060551Z
DESCRIPTION:\n\n
LAST-MODIFIED;VALUE=DATE-TIME:20200706T064354Z
URL:https://www.sek-pratteln.ch/events/oeffentlich/schulhaussprechstunde-b
 iz-1300-1600
END:VEVENT
BEGIN:VTIMEZONE
TZID:Europe/Zurich
X-LIC-LOCATION:Europe/Zurich
BEGIN:STANDARD
DTSTART;VALUE=DATE-TIME:20181028T020000
TZNAME:CET
TZOFFSETFROM:+0200
TZOFFSETTO:+0100
END:STANDARD
END:VTIMEZONE
END:VCALENDAR
