BEGIN:VCALENDAR
VERSION:2.0
PRODID:-//Plone.org//NONSGML plone.app.event//EN
X-WR-TIMEZONE:Europe/Zurich
BEGIN:VEVENT
SUMMARY:Schulhaussprechstunde BIZ (1300-1600)
DTSTART;TZID=Europe/Zurich;VALUE=DATE-TIME:20190514T130000
DTEND;TZID=Europe/Zurich;VALUE=DATE-TIME:20190514T160000
DTSTAMP;VALUE=DATE-TIME:20260421T111310Z
UID:040000008200E00074C5B7101A82E0080000000070791835D207D40100000000000000
 00100000006145A583A665FE4CA57C2F46F0782974
CREATED;VALUE=DATE-TIME:20180629T060603Z
DESCRIPTION:\n\n
LAST-MODIFIED;VALUE=DATE-TIME:20200706T064355Z
URL:https://www.sek-pratteln.ch/events/oeffentlich/schulhaussprechstunde-b
 iz-1300-1600-3
END:VEVENT
BEGIN:VTIMEZONE
TZID:Europe/Zurich
X-LIC-LOCATION:Europe/Zurich
BEGIN:DAYLIGHT
DTSTART;VALUE=DATE-TIME:20190331T030000
TZNAME:CEST
TZOFFSETFROM:+0100
TZOFFSETTO:+0200
END:DAYLIGHT
END:VTIMEZONE
END:VCALENDAR
