BEGIN:VCALENDAR
VERSION:2.0
PRODID:-//Plone.org//NONSGML plone.app.event//EN
X-WR-TIMEZONE:Europe/Zurich
BEGIN:VEVENT
SUMMARY:Schulhaussprechstunde ab 13:00h
DTSTART;TZID=Europe/Zurich;VALUE=DATE-TIME:20251210T130000
DTEND;TZID=Europe/Zurich;VALUE=DATE-TIME:20251210T170000
DTSTAMP;VALUE=DATE-TIME:20260419T214232Z
UID:040000008200E00074C5B7101A82E00800000000607F23CF23D2DB0100000000000000
 00100000009C57D64AF6673D409D2430DBDC7A592F
CREATED;VALUE=DATE-TIME:20250611T084855Z
LAST-MODIFIED;VALUE=DATE-TIME:20250611T085745Z
URL:https://www.sek-pratteln.ch/events/oeffentlich/schulhaussprechstunde-a
 b-13-00h
END:VEVENT
BEGIN:VTIMEZONE
TZID:Europe/Zurich
X-LIC-LOCATION:Europe/Zurich
BEGIN:STANDARD
DTSTART;VALUE=DATE-TIME:20251026T020000
TZNAME:CET
TZOFFSETFROM:+0200
TZOFFSETTO:+0100
END:STANDARD
END:VTIMEZONE
END:VCALENDAR
